BEGIN:VCALENDAR
VERSION:2.0
PRODID:-//Sanilac Broadcasting Company  - ECPv5.6.0//NONSGML v1.0//EN
CALSCALE:GREGORIAN
METHOD:PUBLISH
X-WR-CALNAME:Sanilac Broadcasting Company 
X-ORIGINAL-URL:https://www.sanilacbroadcasting.com
X-WR-CALDESC:Events for Sanilac Broadcasting Company 
BEGIN:VTIMEZONE
TZID:America/New_York
BEGIN:DAYLIGHT
TZOFFSETFROM:-0500
TZOFFSETTO:-0400
TZNAME:EDT
DTSTART:20260308T070000
END:DAYLIGHT
BEGIN:STANDARD
TZOFFSETFROM:-0400
TZOFFSETTO:-0500
TZNAME:EST
DTSTART:20261101T060000
END:STANDARD
END:VTIMEZONE
BEGIN:VEVENT
DTSTART;TZID=America/New_York:20260629T163000
DTEND;TZID=America/New_York:20260629T183000
DTSTAMP:20260425T175045
CREATED:20260216T175528Z
LAST-MODIFIED:20260216T175528Z
UID:102881-1782750600-1782757800@www.sanilacbroadcasting.com
SUMMARY:Mama's Mission Weekly Food Pantry And Dinners
DESCRIPTION:Dinners every Monday from 4:30-6:30 PM and food pantry every Wednesday from 5-7 PM
URL:https://www.sanilacbroadcasting.com/event/mamas-mission-weekly-food-pantry-and-dinners/2026-06-29/
CATEGORIES:Community Events,Food Pantry
END:VEVENT
BEGIN:VEVENT
DTSTART;TZID=America/New_York:20260706T163000
DTEND;TZID=America/New_York:20260706T183000
DTSTAMP:20260425T175045
CREATED:20260216T175528Z
LAST-MODIFIED:20260216T175528Z
UID:102882-1783355400-1783362600@www.sanilacbroadcasting.com
SUMMARY:Mama's Mission Weekly Food Pantry And Dinners
DESCRIPTION:Dinners every Monday from 4:30-6:30 PM and food pantry every Wednesday from 5-7 PM
URL:https://www.sanilacbroadcasting.com/event/mamas-mission-weekly-food-pantry-and-dinners/2026-07-06/
CATEGORIES:Community Events,Food Pantry
END:VEVENT
BEGIN:VEVENT
DTSTART;TZID=America/New_York:20260711T100000
DTEND;TZID=America/New_York:20260711T190000
DTSTAMP:20260425T175045
CREATED:20260413T164043Z
LAST-MODIFIED:20260413T164202Z
UID:103951-1783764000-1783796400@www.sanilacbroadcasting.com
SUMMARY:Elk Twp. Fire Rescue in Peck Side by side ride fundraiser
DESCRIPTION:Elk Twp. Fire Rescue in Peck. We are having a side by side ride fundraiser and also a BBQ  \nmeal afterward to raise money for the fire department on July 11th.
URL:https://www.sanilacbroadcasting.com/event/elk-twp-fire-rescue-in-peck-side-by-side-ride-fundraiser-bbq-meal-afterwards/
CATEGORIES:Ceremonial Events,Fundraiser
END:VEVENT
BEGIN:VEVENT
DTSTART;TZID=America/New_York:20260713T163000
DTEND;TZID=America/New_York:20260713T183000
DTSTAMP:20260425T175045
CREATED:20260216T175528Z
LAST-MODIFIED:20260216T175528Z
UID:102883-1783960200-1783967400@www.sanilacbroadcasting.com
SUMMARY:Mama's Mission Weekly Food Pantry And Dinners
DESCRIPTION:Dinners every Monday from 4:30-6:30 PM and food pantry every Wednesday from 5-7 PM
URL:https://www.sanilacbroadcasting.com/event/mamas-mission-weekly-food-pantry-and-dinners/2026-07-13/
CATEGORIES:Community Events,Food Pantry
END:VEVENT
BEGIN:VEVENT
DTSTART;TZID=America/New_York:20260720T163000
DTEND;TZID=America/New_York:20260720T183000
DTSTAMP:20260425T175045
CREATED:20260216T175528Z
LAST-MODIFIED:20260216T175528Z
UID:102884-1784565000-1784572200@www.sanilacbroadcasting.com
SUMMARY:Mama's Mission Weekly Food Pantry And Dinners
DESCRIPTION:Dinners every Monday from 4:30-6:30 PM and food pantry every Wednesday from 5-7 PM
URL:https://www.sanilacbroadcasting.com/event/mamas-mission-weekly-food-pantry-and-dinners/2026-07-20/
CATEGORIES:Community Events,Food Pantry
END:VEVENT
BEGIN:VEVENT
DTSTART;TZID=America/New_York:20260727T163000
DTEND;TZID=America/New_York:20260727T183000
DTSTAMP:20260425T175045
CREATED:20260216T175528Z
LAST-MODIFIED:20260216T175528Z
UID:102885-1785169800-1785177000@www.sanilacbroadcasting.com
SUMMARY:Mama's Mission Weekly Food Pantry And Dinners
DESCRIPTION:Dinners every Monday from 4:30-6:30 PM and food pantry every Wednesday from 5-7 PM
URL:https://www.sanilacbroadcasting.com/event/mamas-mission-weekly-food-pantry-and-dinners/2026-07-27/
CATEGORIES:Community Events,Food Pantry
END:VEVENT
BEGIN:VEVENT
DTSTART;TZID=America/New_York:20260803T163000
DTEND;TZID=America/New_York:20260803T183000
DTSTAMP:20260425T175045
CREATED:20260216T175528Z
LAST-MODIFIED:20260216T175528Z
UID:102886-1785774600-1785781800@www.sanilacbroadcasting.com
SUMMARY:Mama's Mission Weekly Food Pantry And Dinners
DESCRIPTION:Dinners every Monday from 4:30-6:30 PM and food pantry every Wednesday from 5-7 PM
URL:https://www.sanilacbroadcasting.com/event/mamas-mission-weekly-food-pantry-and-dinners/2026-08-03/
CATEGORIES:Community Events,Food Pantry
END:VEVENT
BEGIN:VEVENT
DTSTART;TZID=America/New_York:20260810T163000
DTEND;TZID=America/New_York:20260810T183000
DTSTAMP:20260425T175045
CREATED:20260216T175528Z
LAST-MODIFIED:20260216T175528Z
UID:102887-1786379400-1786386600@www.sanilacbroadcasting.com
SUMMARY:Mama's Mission Weekly Food Pantry And Dinners
DESCRIPTION:Dinners every Monday from 4:30-6:30 PM and food pantry every Wednesday from 5-7 PM
URL:https://www.sanilacbroadcasting.com/event/mamas-mission-weekly-food-pantry-and-dinners/2026-08-10/
CATEGORIES:Community Events,Food Pantry
END:VEVENT
BEGIN:VEVENT
DTSTART;TZID=America/New_York:20260817T163000
DTEND;TZID=America/New_York:20260817T183000
DTSTAMP:20260425T175045
CREATED:20260216T175528Z
LAST-MODIFIED:20260216T175528Z
UID:102888-1786984200-1786991400@www.sanilacbroadcasting.com
SUMMARY:Mama's Mission Weekly Food Pantry And Dinners
DESCRIPTION:Dinners every Monday from 4:30-6:30 PM and food pantry every Wednesday from 5-7 PM
URL:https://www.sanilacbroadcasting.com/event/mamas-mission-weekly-food-pantry-and-dinners/2026-08-17/
CATEGORIES:Community Events,Food Pantry
END:VEVENT
BEGIN:VEVENT
DTSTART;TZID=America/New_York:20260824T163000
DTEND;TZID=America/New_York:20260824T183000
DTSTAMP:20260425T175045
CREATED:20260216T175528Z
LAST-MODIFIED:20260216T175528Z
UID:102889-1787589000-1787596200@www.sanilacbroadcasting.com
SUMMARY:Mama's Mission Weekly Food Pantry And Dinners
DESCRIPTION:Dinners every Monday from 4:30-6:30 PM and food pantry every Wednesday from 5-7 PM
URL:https://www.sanilacbroadcasting.com/event/mamas-mission-weekly-food-pantry-and-dinners/2026-08-24/
CATEGORIES:Community Events,Food Pantry
END:VEVENT
BEGIN:VEVENT
DTSTART;TZID=America/New_York:20260831T163000
DTEND;TZID=America/New_York:20260831T183000
DTSTAMP:20260425T175045
CREATED:20260216T175528Z
LAST-MODIFIED:20260216T175528Z
UID:102890-1788193800-1788201000@www.sanilacbroadcasting.com
SUMMARY:Mama's Mission Weekly Food Pantry And Dinners
DESCRIPTION:Dinners every Monday from 4:30-6:30 PM and food pantry every Wednesday from 5-7 PM
URL:https://www.sanilacbroadcasting.com/event/mamas-mission-weekly-food-pantry-and-dinners/2026-08-31/
CATEGORIES:Community Events,Food Pantry
END:VEVENT
BEGIN:VEVENT
DTSTART;TZID=America/New_York:20260907T163000
DTEND;TZID=America/New_York:20260907T183000
DTSTAMP:20260425T175045
CREATED:20260216T175528Z
LAST-MODIFIED:20260216T175528Z
UID:102891-1788798600-1788805800@www.sanilacbroadcasting.com
SUMMARY:Mama's Mission Weekly Food Pantry And Dinners
DESCRIPTION:Dinners every Monday from 4:30-6:30 PM and food pantry every Wednesday from 5-7 PM
URL:https://www.sanilacbroadcasting.com/event/mamas-mission-weekly-food-pantry-and-dinners/2026-09-07/
CATEGORIES:Community Events,Food Pantry
END:VEVENT
BEGIN:VEVENT
DTSTART;TZID=America/New_York:20260914T163000
DTEND;TZID=America/New_York:20260914T183000
DTSTAMP:20260425T175045
CREATED:20260216T175528Z
LAST-MODIFIED:20260216T175528Z
UID:102892-1789403400-1789410600@www.sanilacbroadcasting.com
SUMMARY:Mama's Mission Weekly Food Pantry And Dinners
DESCRIPTION:Dinners every Monday from 4:30-6:30 PM and food pantry every Wednesday from 5-7 PM
URL:https://www.sanilacbroadcasting.com/event/mamas-mission-weekly-food-pantry-and-dinners/2026-09-14/
CATEGORIES:Community Events,Food Pantry
END:VEVENT
END:VCALENDAR